BEGIN:VCALENDAR
PRODID:-//Microsoft Corporation//Outlook MIMEDIR//EN
VERSION:2.0
METHOD:PUBLISH
BEGIN:VEVENT
DTSTART:20260423T153000
DTEND:20260423T163000
DESCRIPTION:
LOCATION:5th Floor Conference Room of City Hall
SUMMARY:Public Art Commission
CATEGORIES:MEETING
END:VEVENT
END:VCALENDAR
